BEGIN:VCALENDAR
VERSION:2.0
PRODID:-//Woodlin Elementary PTA - ECPv6.6.3//NONSGML v1.0//EN
CALSCALE:GREGORIAN
METHOD:PUBLISH
X-WR-CALNAME:Woodlin Elementary PTA
X-ORIGINAL-URL:https://woodlinpta.org
X-WR-CALDESC:Events for Woodlin Elementary PTA
REFRESH-INTERVAL;VALUE=DURATION:PT1H
X-Robots-Tag:noindex
X-PUBLISHED-TTL:PT1H
BEGIN:VTIMEZONE
TZID:America/New_York
BEGIN:DAYLIGHT
TZOFFSETFROM:-0500
TZOFFSETTO:-0400
TZNAME:EDT
DTSTART:20250309T070000
END:DAYLIGHT
BEGIN:STANDARD
TZOFFSETFROM:-0400
TZOFFSETTO:-0500
TZNAME:EST
DTSTART:20251102T060000
END:STANDARD
END:VTIMEZONE
BEGIN:VEVENT
DTSTART;TZID=America/New_York:20251024T080000
DTEND;TZID=America/New_York:20251024T170000
DTSTAMP:20260425T204702
CREATED:20250911T005041Z
LAST-MODIFIED:20250911T005041Z
UID:3490-1761292800-1761325200@woodlinpta.org
SUMMARY:Dash of the Runaway Wizards
DESCRIPTION:The Dash of the Runaway Wizards is Woodlin Elementary’s annual fun run and has been a great success in raising funds while providing a festive and healthy event for our kids. \n\n\n\nThis year’s Dash will be Friday\, October 24th.\n\n\nLearn more: https://woodlinpta.org/dash-wizards/
URL:https://woodlinpta.org/events/dash-of-the-runaway-wizards-8/
LOCATION:Woodlin Playground\, 2101 Luzerne Ave\, Silver Spring\, MD\, 20190
CATEGORIES:Woodlin Event
END:VEVENT
BEGIN:VEVENT
DTSTART;TZID=America/New_York:20251031T080000
DTEND;TZID=America/New_York:20251031T170000
DTSTAMP:20260425T204702
CREATED:20251009T133459Z
LAST-MODIFIED:20251009T133459Z
UID:3525-1761897600-1761930000@woodlinpta.org
SUMMARY:Class Harvest Parties and Parade
DESCRIPTION:
URL:https://woodlinpta.org/events/class-harvest-parties-and-parade/
LOCATION:Woodlin Elementary School\, 2101 Luzerne Ave\, Silver Spring\, MD\, 20910\, United States
CATEGORIES:Woodlin Event
END:VEVENT
END:VCALENDAR